Workbook

Sheet 記入用紙
A3: 子ども食堂 情報提供用紙
A5: ★記入者情報
A6: 記入者氏名
A7: 電話番号
A8: メールアドレス
A9: 希望する連絡方法〔任意〕 （内容確認のためご連絡することがあります。ご希望の連絡方法、時間帯があれば記入してください。）
A10: 関係資料の送付先 | B10: 郵便番号→
B11: 住所→
B12: 宛名→
A14: ★子ども食堂の情報
A15: ※現在の子ども食堂の状況を把握するため、マップへの掲載の可否にかかわらず全て記入してください。 （2026年8月1日時点の情報をご記入ください。）
A16: 子ども食堂の名称
A17: 所在地
A18: 建物名
A19: 所在地の小学校区
A20: 電話番号
A21: メールアドレス
A22: 開催日時
A23: 参加費
A24: その他の活動（フードパントリー、学習支援、お弁当配布、多世代交流、体験学習等）
A25: ホームページ URL
... A32: 開設年月日（この情報はマップに掲載しません。）
A33: マップへの掲載可否 | B33: 選択して ください→
A34: 非公開を希望する情報
A35: その他連絡事項
A37: ○記入する内容は、別紙〈記載例〉を参考にしてください。
A38: ○記入いただいた情報は、子ども食堂マップ作成のための原稿（マップへの掲載を希望する場合のみ）及び県内の子ども食堂の把握のために活用します。提出前に数字等の誤りがないか今一度ご確認下さい。
A39: ご記入は以上です。ご協力ありがとうございました。

Sheet 記載例
A1: 子ども食堂 情報提供用紙
A3: ★記入者情報
A4: 記入者氏名 | C4: 愛知 太郎
A5: 電話番号 | C5: 012-34-5678
A6: メールアドレス | C6: abc@123de.ne.jp
A7: 希望する連絡方法〔任意〕 （内容確認のためご連絡することがあります。ご希望の連絡方法、時間帯があれば記入してください。） | C7: メール（日中は仕事をしているため電話には出られないことが多い。）
A8: 関係資料の送付先 | B8: 郵便番号→ | C8: 123-4567
B9: 住所→ | C9: 尾張市三河町1-23 あいちビル102
B10: 宛名→ | C10: 社会福祉法人あいち
A12: ★子ども食堂の情報
A13: ※現在の子ども食堂の状況を把握するため、マップへの掲載の可否にかかわらず全て記入してください。 （2026年8月1日時点の情報をご記入ください。）
A14: 子ども食堂の名称 | C14: あいちこども食堂
A15: 所在地 | C15: 尾張市三河町1-25
A16: 建物名 | C16: あいち公民館
A17: 所在地の小学校区 | C17: 尾張小学校
A18: 電話番号 | C18: 012-21-4321
A19: メールアドレス | C19: def@456gh.ne.jp
A20: 開催日時 | C20: 毎月第3土曜日 11：00～14：00
A21: 参加費 | C21: 子ども（高校生以下）無料／大人300円
A22: その他の活動（フードパントリー、学習支援、お弁当配布、多世代交流、体験学習等） | C22: フードパントリー
A23: ホームページ URL | C23: http://aichivc.jp/
A24: Instagram ID | C24: @example_123
A25: Facebook ID | C25: @example_124
... A29: 運営主体（この情報はマップに掲載しません。） | C29: 社会福祉法人あいち
A30: 開設年月日（この情報はマップに掲載しません。） | C30: 45383
A31: マップへの掲載可否 | B31: 選択して ください→ | C31: 可
A32: 非公開を希望する情報 | C32: 電話番号
A33: その他連絡事項

Sheet 取りまとめシート
A2: 本シートは、愛知県社会福祉協議会が取りまとめのために使用します。ご記入は不要です。
A3: ★記入者情報 | H3: ★子ども食堂の情報
A4: 記入者氏名 | B4: 電話番号_記入者 | C4: メールアドレス_記入者 | D4: 希望する連絡方法〔任意〕 | E4: 郵便番号 | F4: 住所 | G4: 宛名 | H4: 子ども食堂の名称 | I4: 所在地 | J4: 建物名 | K4: 所在地の小学校区 | L4: 電話番号_子ども食堂 | M4: メールアドレス_子ども食堂 | N4: 開催日時 | O4: 参加費 | P4: その他の活動 | Q4: ホームページ URL | R4: Instagram ID | S4: Facebook ID | T4: TikTok ID | U4: X（旧Twitter） ID | V4: YouTube チャンネル名 | W4: 運営主体 | X4: 開設年月日 | Y4: マップへの掲載可否 | Z4: 非公開を希望する情報 | AA4: その他連絡事項
A5: =記入用紙!$C6 -> 0 | B5: =記入用紙!C7 -> 0 | C5: =記入用紙!C8 -> 0 | D5: =記入用紙!C9 -> 0 | E5: =記入用紙!C10 -> 0 | F5: =記入用紙!C11 -> 0 | G5: =記入用紙!C12 -> 0 | H5: =記入用紙!C16 -> 0 | I5: =記入用紙!C17 -> 0 | J5: =記入用紙!C18 -> 0 | K5: =記入用紙!C19 -> 0 | L5: =記入用紙!C20 -> 0 | M5: =記入用紙!C21 -> 0 | N5: =記入用紙!C22 -> 0 | O5: =記入用紙!C23 -> 0 | P5: =記入用紙!C24 -> 0 | Q5: =記入用紙!C25 -> 0 | R5: =記入用紙!C26 -> 0 | S5: =記入用紙!C27 -> 0 | T5: =記入用紙!C28 -> 0 | U5: =記入用紙!C29 -> 0 | V5: =記入用紙!C30 -> 0 | W5: =記入用紙!C31 -> 0 | X5: =IF(記入用紙!C32="","0",記入用紙!C32) -> 0 | Y5: =記入用紙!C33 -> 0 | Z5: =記入用紙!C34 -> 0 | AA5: =記入用紙!C35 -> 0
